BEGIN:VCALENDAR
VERSION:2.0
PRODID:-//Patron Stage - ECPv6.3.7//NONSGML v1.0//EN
CALSCALE:GREGORIAN
METHOD:PUBLISH
X-ORIGINAL-URL:https://patronstage.com
X-WR-CALDESC:Events for Patron Stage
REFRESH-INTERVAL;VALUE=DURATION:PT1H
X-Robots-Tag:noindex
X-PUBLISHED-TTL:PT1H
BEGIN:VTIMEZONE
TZID:Europe/Amsterdam
BEGIN:DAYLIGHT
TZOFFSETFROM:+0100
TZOFFSETTO:+0200
TZNAME:CEST
DTSTART:20240331T010000
END:DAYLIGHT
BEGIN:STANDARD
TZOFFSETFROM:+0200
TZOFFSETTO:+0100
TZNAME:CET
DTSTART:20241027T010000
END:STANDARD
END:VTIMEZONE
BEGIN:VEVENT
DTSTART;TZID=Europe/Amsterdam:20240921T200000
DTEND;TZID=Europe/Amsterdam:20240921T220000
DTSTAMP:20260421T133532
CREATED:20240825T100002Z
LAST-MODIFIED:20240910T114355Z
UID:242197-1726948800-1726956000@patronstage.com
SUMMARY:Halil Çalışkan - Gurbet - Türkçe Stand up Komedi - 21 Eylül 20:00 - Maaspodium
DESCRIPTION:Uzun yıllardır Amsterdam’da yaşayan komedyen Halil Çalışkan\, yurtdışında yaşamanın ikircikli duygusunu\, zaman zaman yoklayan ama twitter’a girince kaybolan memleket hasretini\, çay ocaklarında ve Türk berberlerde demlendirdiği dış güçler ile ilgili sarsıcı (!) tespitlerini\, anne-oğul ilişki dinamiklerini\, beyin göçünden pizza ustalığına ve en nihayetinde pandemi depresyonundan komedyenliğe uzanan gurbet yolculuğunu kara mizah ve tiplemelerle süsleyerek anlattığı tek kişilik stand up gösterisiyle 14 Eylül’de saat 20:00’da Pand P’de. \nÖnemli notlar:\nGösteri tam saatinde başlayacaktır.\nGösteri 90 dakikadır ve iki perdeden oluşmaktadır.\nGösteride 18 yaş sınırı vardır.\nVideo çekmek yasaktır.\nGösteri politik\, dini vb. konularda hassasiyetleri olanlar için uygun olmayabilir.
URL:https://patronstage.com/event/halil-caliskan-gurbet-turkce-stand-up-komedi-21-eylul-2000-maaspodium/
LOCATION:Maaspodium\, Sint-Jobsweg 3\, 3024 EH\, Rotterdam\, Netherlands
CATEGORIES:Available,English,Halil Çalışkan
ATTACH;FMTTYPE=image/png:https://patronstage.com/wp-content/uploads/2024/08/gurbet-web-blank.png
END:VEVENT
END:VCALENDAR