BEGIN:VCALENDAR
VERSION:2.0
PRODID:-//Patron Stage - ECPv6.3.7//NONSGML v1.0//EN
CALSCALE:GREGORIAN
METHOD:PUBLISH
X-ORIGINAL-URL:https://patronstage.com
X-WR-CALDESC:Events for Patron Stage
REFRESH-INTERVAL;VALUE=DURATION:PT1H
X-Robots-Tag:noindex
X-PUBLISHED-TTL:PT1H
BEGIN:VTIMEZONE
TZID:Europe/Amsterdam
BEGIN:DAYLIGHT
TZOFFSETFROM:+0100
TZOFFSETTO:+0200
TZNAME:CEST
DTSTART:20240331T010000
END:DAYLIGHT
BEGIN:STANDARD
TZOFFSETFROM:+0200
TZOFFSETTO:+0100
TZNAME:CET
DTSTART:20241027T010000
END:STANDARD
END:VTIMEZONE
BEGIN:VEVENT
DTSTART;TZID=Europe/Amsterdam:20241201T173000
DTEND;TZID=Europe/Amsterdam:20241201T183000
DTSTAMP:20260421T163447
CREATED:20241018T124849Z
LAST-MODIFIED:20241022T112147Z
UID:242363-1733074200-1733077800@patronstage.com
SUMMARY:Halil Caliskan: Homesick on Tour – English Stand-Up Comedy in Barcelona
DESCRIPTION:Language: English |  Duration: 60 minutes | Format: Stand-up Comedy\nHalil Caliskan’s debut hour\, Homesick\, is a candid and clever exploration of life abroad\, blending sharp observations\, witty stories and dark political satire. As a rising Turkish talent in the English comedy scene\, Halil tackles identity crises\, cultural differences\, Amsterdam’s infamous coffee shop culture\, and encounters with Dutch gurus during psychedelic retreats. His deadpan humour and laid back delivery take the audience on a thought-provoking journey through the highs and lows of his experience\, offering a bold\, captivating yet funny take on what it means to be far from home. \nHalil Caliskan is a Turkish comedian who has called Amsterdam home since 2017. After leaving the grind of a 9-to-5 consulting job\, he followed his dream of opening a restaurant\, only to find that life had other plans right at the beginning of 2020. Familiar with using humor to cope with life’s challenges since childhood\, Halil found himself at an open mic one night and discovered a new passion for stand-up. What started as a way to escape became something much bigger. He transformed his restaurant into a comedy club\, Patron Stage – named after restaurant’s bossy cat\, and since then he’s performed and produced hundreds of shows in some exciting theaters and comedy clubs across Europe and beyond. \nThe show is suitable for audiences aged 18 and above. Video recording will not be allowed during the show; however\, you may take pictures.
URL:https://patronstage.com/event/halil-caliskan-homesick-on-tour-english-stand-up-comedy-in-barcelona/
LOCATION:The Comedy Clubhouse\, 10 Carrer dels Canvis Nous\, 08003 Barcelona\, Barcelona\, 08003\, ES
CATEGORIES:Available,Halil Çalışkan,Homesick
ATTACH;FMTTYPE=image/jpeg:https://patronstage.com/wp-content/uploads/2024/09/HC_flier_1x1_v2_101724_high_res_textured.jpg
END:VEVENT
BEGIN:VEVENT
DTSTART;TZID=Europe/Amsterdam:20241202T210000
DTEND;TZID=Europe/Amsterdam:20241202T220000
DTSTAMP:20260421T163447
CREATED:20241018T133245Z
LAST-MODIFIED:20241030T143749Z
UID:242382-1733173200-1733176800@patronstage.com
SUMMARY:Double Dutch: Live on Tour | December 2 | Paris
DESCRIPTION:Double Dutch: Live on Tour \nLanguage: English\nDuration: 60 minutes \n“Join Derek in an autumn EU tour of his sell-out hit show Double Dutch: Live – 60 minutes of stand-up\, characters\, and sketches about living between the Netherlands\, UK and the US. Following a sold-out run of over 100 shows around the Netherlands and the UK\, Derek is embarking on an EU tour with his very best material. \nThe show will begin promptly at 9:00 PM. Followed by a meet-and-greet with Derek for those who wish to say hi and bye. Follow @letsdoubledutch and @patronstage on Instagram to stay updated on events\, announcements\, and other important news.\nPlease arrive at least 15 minutes before the show\, as latecomers will not be able to enter after it has started. Video recording will not be allowed during the show; however\, you may take pictures. The show is suitable for audiences aged 18 and above.”
URL:https://patronstage.com/event/double-dutch-live-on-tour-december-2-paris/
LOCATION:Le Kibele\, 12 Rue de l'Échiquier\, 75010 Paris\, France\, Paris\, 75010\, France
CATEGORIES:Available,Double Dutch,English
ATTACH;FMTTYPE=image/jpeg:https://patronstage.com/wp-content/uploads/2024/09/DoubleDutchLiveTourPoster-scaled.jpg
END:VEVENT
BEGIN:VEVENT
DTSTART;TZID=Europe/Amsterdam:20241203T180000
DTEND;TZID=Europe/Amsterdam:20241203T190000
DTSTAMP:20260421T163447
CREATED:20241018T133618Z
LAST-MODIFIED:20241030T143846Z
UID:242384-1733248800-1733252400@patronstage.com
SUMMARY:Double Dutch: Live on Tour | December 3 | Paris
DESCRIPTION:Double Dutch: Live on Tour \nLanguage: English\nDuration: 60 minutes \n“Join Derek in an autumn EU tour of his sell-out hit show Double Dutch: Live – 60 minutes of stand-up\, characters\, and sketches about living between the Netherlands\, UK and the US. Following a sold-out run of over 100 shows around the Netherlands and the UK\, Derek is embarking on an EU tour with his very best material. \nThe show will begin promptly at 9:00 PM. Followed by a meet-and-greet with Derek for those who wish to say hi and bye. Follow @letsdoubledutch and @patronstage on Instagram to stay updated on events\, announcements\, and other important news.\nPlease arrive at least 15 minutes before the show\, as latecomers will not be able to enter after it has started. Video recording will not be allowed during the show; however\, you may take pictures. The show is suitable for audiences aged 18 and above.”
URL:https://patronstage.com/event/double-dutch-live-on-tour-december-3-paris/
LOCATION:Le Kibele\, 12 Rue de l'Échiquier\, 75010 Paris\, France\, Paris\, 75010\, France
CATEGORIES:Available,Double Dutch,English
ATTACH;FMTTYPE=image/jpeg:https://patronstage.com/wp-content/uploads/2024/09/DoubleDutchLiveTourPoster-scaled.jpg
END:VEVENT
BEGIN:VEVENT
DTSTART;TZID=Europe/Amsterdam:20241204T200000
DTEND;TZID=Europe/Amsterdam:20241204T213000
DTSTAMP:20260421T163447
CREATED:20241018T122936Z
LAST-MODIFIED:20241022T112020Z
UID:242356-1733342400-1733347800@patronstage.com
SUMMARY:Halil Caliskan: Homesick on Tour – English Stand-Up Comedy in Luxembourg
DESCRIPTION:Language: English |  Duration: 80 minutes | Format: Stand-up Comedy\nHalil Caliskan’s debut hour\, Homesick\, is a candid and clever exploration of life abroad\, blending sharp observations\, witty stories and dark political satire. As a rising Turkish talent in the English comedy scene\, Halil tackles identity crises\, cultural differences\, Amsterdam’s infamous coffee shop culture\, and encounters with Dutch gurus during psychedelic retreats. His deadpan humour and laid back delivery take the audience on a thought-provoking journey through the highs and lows of his experience\, offering a bold\, captivating yet funny take on what it means to be far from home. \nHalil Caliskan is a Turkish comedian who has called Amsterdam home since 2017. After leaving the grind of a 9-to-5 consulting job\, he followed his dream of opening a restaurant\, only to find that life had other plans right at the beginning of 2020. Familiar with using humor to cope with life’s challenges since childhood\, Halil found himself at an open mic one night and discovered a new passion for stand-up. What started as a way to escape became something much bigger. He transformed his restaurant into a comedy club\, Patron Stage – named after restaurant’s bossy cat\, and since then he’s performed and produced hundreds of shows in some exciting theaters and comedy clubs across Europe and beyond. \nThe show is suitable for audiences aged 18 and above. Video recording will not be allowed during the show; however\, you may take pictures.
URL:https://patronstage.com/event/homesick-halil-caliskans-darkly-funny-take-on-life-abroad-5-4-2/
LOCATION:Carlitos Comedy Club\, 65 Rue du Fort Neipperg\, 2230 Gare Luxembourg\, Luxembourg City\, Luxembourg
CATEGORIES:Available,Halil Çalışkan,Homesick
ATTACH;FMTTYPE=image/jpeg:https://patronstage.com/wp-content/uploads/2024/09/HC_flier_1x1_v2_101724_high_res_textured.jpg
END:VEVENT
BEGIN:VEVENT
DTSTART;TZID=Europe/Amsterdam:20241207T200000
DTEND;TZID=Europe/Amsterdam:20241207T220000
DTSTAMP:20260421T163447
CREATED:20240910T161115Z
LAST-MODIFIED:20240910T161115Z
UID:242254-1733601600-1733608800@patronstage.com
SUMMARY:Double Dutch: Live on Tour | December 7 | ANTWERP
DESCRIPTION:Double Dutch: Live on Tour \nLanguage: English\nDuration: 90 minutes \n“Join Derek in an autumn EU tour of his sell-out hit show Double Dutch: Live – 90 minutes of stand-up\, characters\, and sketches about living between the Netherlands\, UK and the US. Following a sold-out run of over 100 shows around the Netherlands and the UK\, Derek is embarking on an EU tour with his very best material. \nThe show will begin promptly at 8:00 PM. Followed by a meet-and-greet with Derek for those who wish to say hi and bye. Follow @letsdoubledutch and @patronstage on Instagram to stay updated on events\, announcements\, and other important news.\nPlease arrive at least 15 minutes before the show\, as latecomers will not be able to enter after it has started. Video recording will not be allowed during the show; however\, you may take pictures. The show is suitable for audiences aged 18 and above.”
URL:https://patronstage.com/event/double-dutch-live-on-tour-december-7-antwerp/
LOCATION:Bourla\, Komedieplaats 18\, Antwerpen\, Belgium
CATEGORIES:Available,Double Dutch,English
ATTACH;FMTTYPE=image/jpeg:https://patronstage.com/wp-content/uploads/2024/09/DoubleDutchLiveTourPoster-scaled.jpg
END:VEVENT
END:VCALENDAR